BEGIN:VCALENDAR
VERSION:2.0
PRODID:-//RIGHTHERE//CALENDARIZE IT V3.2//EN
BEGIN:VTIMEZONE
TZID:America/Edmonton
X-MICROSOFT-CDO-TZID:36
BEGIN:STANDARD
DTSTART:20251102T080000
TZOFFSETFROM:-0600
TZOFFSETTO:-0700
TZNAME:MST
END:STANDARD
BEGIN:DAYLIGHT
DTSTART:20260308T090000
TZOFFSETFROM:-0700
TZOFFSETTO:-0600
TZNAME:MDT
END:DAYLIGHT
BEGIN:STANDARD
DTSTART:20261101T080000
TZOFFSETFROM:-0600
TZOFFSETTO:-0700
TZNAME:MST
END:STANDARD
END:VTIMEZONE
BEGIN:VEVENT
UID:17983-events@tundrasolutions.ca
DTSTART;VALUE=DATE:20191106
DTEND;VALUE=DATE:20191108
DTSTAMP;TZID=America/Edmonton:20190827T210244
SUMMARY:SWWA Tradeshow
URL:https://tundrasolutions.ca/events/swwa-tradeshow/
ORGANIZER;CN=Tundra Process Solutions Ltd.:MAILTO:info@tundrasolutions.ca
LOCATION:Weyburn\, Saskatchewan
END:VEVENT
END:VCALENDAR